{
 "currentVersion": 10.91,
 "serviceDescription": "1941 Imagery ",
 "name": "1941Belvidere",
 "description": "1941 Imagery ",
 "extent": {
  "xmin": 828414.2960140596,
  "ymin": 2025352.9543094083,
  "xmax": 865771.1957468395,
  "ymax": 2078752.740388744,
  "spatialReference": {
   "wkid": 102671,
   "latestWkid": 3435
  }
 },
 "initialExtent": {
  "xmin": 828414.2960140596,
  "ymin": 2025352.9543094083,
  "xmax": 865771.1957468395,
  "ymax": 2078752.740388744,
  "spatialReference": {
   "wkid": 102671,
   "latestWkid": 3435
  }
 },
 "fullExtent": {
  "xmin": 828414.2960140596,
  "ymin": 2025352.9543094083,
  "xmax": 865771.1957468395,
  "ymax": 2078752.740388744,
  "spatialReference": {
   "wkid": 102671,
   "latestWkid": 3435
  }
 },
 "pixelSizeX": 2.304274594916108,
 "pixelSizeY": 2.2727181681705706,
 "bandCount": 1,
 "pixelType": "U8",
 "minPixelSize": 0,
 "maxPixelSize": 0,
 "copyrightText": "BooneGIS",
 "serviceDataType": "esriImageServiceDataTypeGeneric",
 "minValues": [
  0
 ],
 "maxValues": [
  255
 ],
 "meanValues": [
  164.9793648760864
 ],
 "stdvValues": [
  48.49549493765405
 ],
 "objectIdField": "",
 "fields": [],
 "capabilities": "Image,Metadata,Mensuration",
 "defaultMosaicMethod": "Center",
 "allowedMosaicMethods": "",
 "sortField": "",
 "sortValue": null,
 "sortAscending": true,
 "mosaicOperator": "First",
 "defaultCompressionQuality": 75,
 "defaultResamplingMethod": "Bilinear",
 "maxImageHeight": 4100,
 "maxImageWidth": 15000,
 "allowRasterFunction": true,
 "rasterFunctionInfos": [
  {
   "name": "None",
   "description": "",
   "help": ""
  }
 ],
 "rasterTypeInfos": [
  {
   "name": "Raster Dataset",
   "description": "Supports all ArcGIS Raster Datasets",
   "help": ""
  }
 ],
 "mensurationCapabilities": "Basic",
 "hasHistograms": true,
 "hasColormap": false,
 "hasRasterAttributeTable": false,
 "minScale": 0,
 "maxScale": 0,
 "exportTilesAllowed": false,
 "hasMultidimensions": false,
 "supportsStatistics": false,
 "supportsAdvancedQueries": false,
 "editFieldsInfo": null,
 "ownershipBasedAccessControlForRasters": null,
 "allowComputeTiePoints": false,
 "useStandardizedQueries": true,
 "advancedQueryCapabilities": {
  "useStandardizedQueries": true,
  "supportsStatistics": false,
  "supportsOrderBy": false,
  "supportsDistinct": false,
  "supportsPagination": false
 },
 "spatialReference": {
  "wkid": 102671,
  "latestWkid": 3435
 }
}
