<?xml version="1.0" encoding="UTF-8" standalone="no"?>
<metadata>
<idinfo>
<citation>
<citeinfo>
<origin>USDA-FSA-APFO</origin>
<pubdate>20151016</pubdate>
<title>USDA-FSA-APFO Digital Ortho Mosaic</title>
<pubinfo>
<pubplace>Salt Lake City, Utah</pubplace>
<publish>USDA_FSA_APFO Aerial Photography Field Office</publish>
</pubinfo>
</citeinfo>
</citation>
<descript>
<abstract>
This data set contains imagery from the National
Agriculture Imagery Program (NAIP). The NAIP
acquires digital ortho imagery during the
agricultural growing seasons in the continental U.S..
A primary goal of the NAIP program is to enable
availability of ortho imagery within one year of
acquisition. The NAIP provides two main products: 1
meter ground sample distance (GSD) ortho imagery
rectified to a horizontal accuracy within +/- 5 meters
of reference digital ortho quarter quads (DOQQ's) from
the National Digital Ortho Program (NDOP) or from the
National Agriculture Imagery Program (NAIP); 1 meter
or 1/2 meter GSD ortho imagery rectified within +/- 6
meters to true ground. The tiling format of NAIP imagery is
based on a 3.75' x 3.75' quarter quadrangle with a 300
pixel buffer on all four sides. The NAIP imagery is
formatted to the UTM coordinate system using the North
American Datum of 1983 (NAD83). The NAIP imagery may
contain as much as 10% cloud cover per tile. This file
was generated by compressing NAIP imagery that covers
the county extent. Two types of compression may be
used for NAIP imagery: MrSID and JPEG 2000. The target
value for the compression ratio is 15:1 for the 1 meter
imagery and 60:1 for the 1/2 meter imagery.
</abstract>
<purpose>
The NAIP imagery is typically available for distribution
within 60 days of the end of a flying season and is intended
to provide current information of agricultural conditions
in support of USDA farm programs. For USDA Farm Service
Agency, the 1 meter and 1/2 meter GSD product provides an
ortho image base for Common Land Unit boundaries and other
data sets. The NAIP imagery is generally acquired in
projects covering full states in cooperation with state
government and other federal agencies who use the
imagery for a variety of purposes including land use
planning and natural resource assessment. The NAIP is
also used for disaster response often providing the most
current pre-event imagery.
</purpose>
</descript>
<timeperd>
<timeinfo>
<sngdate>
<caldate>20151016</caldate>
</sngdate>
</timeinfo>
<current>Photography Source Image Dates.</current>
</timeperd>
<status>
<progress>Complete</progress>
<update>Irregular</update>
</status>
<spdom>
<bounding>
<westbc>-89.005727</westbc>
<eastbc>-88.682102</eastbc>
<northbc>42.503843</northbc>
<southbc>42.121159</southbc>
</bounding>
</spdom>
<keywords>
<theme>
<themekt>None</themekt>
<themekey>farming</themekey>
<themekey>Digital Ortho Rectified Image</themekey>
<themekey>Mosaic</themekey>
<themekey>Quarter Quadrangle</themekey>
<themekey>Ortho Rectification</themekey>
<themekey>Compression</themekey>
<themekey>MrSID</themekey>
<themekey>JPEG 2000</themekey>
<themekey>NAIP</themekey>
<themekey>Compliance</themekey>
<themekey>Aerial Compliance</themekey>
</theme>
<place>
<placekt>Geographic Names Information System</placekt>
<placekey>Boone CO., IL FSA</placekey>
<placekey>FIPS 17007</placekey>
<placekey>Boone</placekey>
<placekey>Illinois</placekey>
</place>
</keywords>
<accconst>There are no limitations for access.</accconst>
<useconst>
None, The USDA-FSA Aerial Photography Field Office asks to
be credited in derived products.
If defects are found in the NAIP imagery during the 1 year
warranty period such as horizontal offsets, replacement imagery
may be provided. Imagery containing defects that require the
acquisition of new imagery, such as excessive cloud cover,
specular reflectance, etc., will not be replaced within a
NAIP project year.
</useconst>
<ptcontac>
<cntinfo>
<cntorgp>
<cntorg>USDA-FSA Aerial Photography Field Office</cntorg>
</cntorgp>
<cntaddr>
<addrtype>mailing and physical address</addrtype>
<address>2222 West 2300 South</address>
<city>Salt Lake City</city>
<state>Utah</state>
<postal>84119-2020</postal>
<country>USA</country>
</cntaddr>
<cntvoice>801-844-2922</cntvoice>
<cntfax>801-956-3653</cntfax>
<cntemail>apfo.sales@slc.usda.gov</cntemail>
</cntinfo>
</ptcontac>
<browse>
<browsen>withheld</browsen>
<browsed>None</browsed>
<browset>None</browset>
</browse>
<native>
NAIP 3.75 Quarter Quadrangles mosaicked into a County format
using data compression software. The target values for the
compression ratio are 15:1 for the 1 meter imagery and 60:1
for the 1/2 meter imagery.
</native>
</idinfo>
<dataqual>
<logic>
NAIP 3.75 minute tile file names are based
on the USGS quadrangle naming convention.
</logic>
<complete>None</complete>
<posacc>
<horizpa>
<horizpar>NAIP Specifications</horizpar>
</horizpa>
<vertacc>
<vertaccr>N/A 2d only</vertaccr>
</vertacc>
</posacc>
<lineage>
<srcinfo>
<srccite>
<citeinfo>
<origin>USDA-FSA Aerial Photography Field Office</origin>
<pubdate>20151016</pubdate>
<title>Boone CO., IL FSA</title>
</citeinfo>
</srccite>
<srcscale>12000</srcscale>
<typesrc>External Media Types</typesrc>
<srctime>
<timeinfo>
<sngdate>
<caldate>20151016</caldate>
</sngdate>
</timeinfo>
<srccurr>Majority Aerial Photography Date</srccurr>
</srctime>
<srccitea>MrSID Compressed Image</srccitea>
<srccontr>Mosaicked County Image</srccontr>
</srcinfo>
<procstep>
<procdesc>
Flight planning was performed in Leica MissionPro over a
buffered boundary covering DOQQ extents provided by the USDA. A
500m reduced resolution DEM file was used to determine
ground heights. A targeted flight altitude of approximately
18,000 feet above ground level with sidelap of 27% was used
for flight planning parameters. Five Cessna Conquests and
a Cessna 414 were utilized for acquisition, the seamline shapefile
clarifies which aircraft were used for a given area. All aircraft
were equipped with Leica ADS100 systems where utilized for data
capture. The Leica ADS100 pushbroom sensor
has been calibrated by the manufacturer as well as validated
against a local calibration range. The calibration includes
measuring the radiometric and geometric properties of the
camera. These data are used in the Post Processing Software
to eliminate the radiometric and geometric distortion.
All aerial imagery was collected with associated GPS/IMU
data. ADS collection requires high quality IMU data for
processing and was critical for early access hosting of digital
data to the web for USDA interim access and review.
After early access web delivery was complete, all
imagery was triangulated using Leica XPro in which
the airborne GPS data was constrained to expected limits.
The final adjustments assure a high quality relative adjustment
and a high quality absolute adjustment limited to the
airborne GPS data accuracy. This process assures the final
absolute accuracy of all geopositioned imagery. Both
signalized and photo identified
ground control were used to QC and control the IMU/GPS
based aerial triangulation bundle block solution. For each
project area the latest NED was downloaded from the USGS
National Map Seamless Server website in late Spring-Summer
2015. Thirty Meter NED was used in all cases, and preferred
over the available ten meter spacing to minimize image smearing
and distortions that are exacerbated by a finer, but not more
accurate DEM. A visual inspection of the NED using color cycled
classification by elevation and a shaded relief was performed
to check for gaps, corruption and gross errors. When available
the NED was compared to known higher quality elevation sources
to detect flaws. The predicted horizontal error for each
point was added as an attribute in the SURDEX enterprise
database. An operator reviews ortho seams
in areas these predicted errors indicate horizontal error in
excess of the contract specifications. Any imagery errors
introduced by source NED required patching from an alternate
perspective or strip of photography.
Processing hardware used included various brands of survey grade
GPS receivers, various brands and models of computers,
RAID6 storage, calibrated monitors, various brands of monitor
calibration colorimeters. Leica XPro was used for post
processing of ADS pushbroom data, triangulation and
orthorectification. SURDEX software was used to color correct
and remove bidirectional reflectance, vignetting and other
illumination trends. USDA APFO Image Metrics are measured and
images corrected to conform to the Image Metrics using
SURDEX software. GPS/IMU data was reduced to projected
coordinates in the appropriate UTM zone using Inertial Explorer
software from Novatel. Aerial Triangulation and orthorectification
was performed using Leica XPro. SURDEX software was
used to adjust for minor radiometric
variation between adjacent images. SURDEX software was used
to calculate the optimal seam path, check seam topology and
create master tiles. SURDEX ortho software generates
occlusion/smear polygons used during seam review
of steep terrain. SURDEX software was used to
visually inspect master tiles for seam and image defects.
SURDEX software was used to project and cut final DOQQ image
files from masters. SURDEX software was used to create CCM
metadata. Lizardtech GeoExpress version 8.0.0.3065 was used
to create the CCM image file. SURDEX software was
used to perform final formatting, QC and naming of the DOQQ.
USGS metadata parser software was used to validate the metadata.
Various versions of Microsoft Windows were used in all phases of
production. Surdex Grouping Tool provides real-time updates
of the USDA APFO Image Metrics. The image technician adjusts
image correction parameters to bring the radiometric
characteristics of large groups of images within the Image
Metrics ranges. Grouping Tool was used again after
DOQQ and CCM production to
provide a quality assurance check. Individual DOQQ and CCM may
not meet the USDA APFO Image Metrics ranges due to land cover.
The goal is to have the state as a whole meet the Image Metrics.
To validate the accuracy of the block adjustment derived from
GPS/IMU, sensor parameters and conjugate point measurements,
photo identifiable ground control points
were field surveyed within each State. These points were
surveyed using GPS techniques to produce coordinates that are
accurate to +/- 0.25 meters RMSE in XYZ. The GPS surveying
techniques utilized assured that the coordinates are derived
in the required project datum and relative to an approved
National Reference System. If the block does not fit the
control points within specifications the pass and tie
points were reviewed for blunders and weak areas. If,
after these corrections were made, the block still
does not fit the control well the GPS and IMU processing were
reviewed. Once the block has proper statistics and fits the
control to specifications, the final bundle adjustment was
made. As AT points are frequently on man-made and other
vertical features not included in the DEM, these ortho
points can only be used to indicate regions of error by the
clusters of points that predict excessive horizontal
displacement. All products are reviewed by independent
personnel prior to delivery. The delivery is checked for
omissions, commissions, naming, formatting, specification
compliance and data integrity.
</procdesc>
<procdate>20151016</procdate>
</procstep>
</lineage>
</dataqual>
<spdoinfo>
<indspref>Boone CO, Illinois</indspref>
<direct>Raster</direct>
<rastinfo>
<rasttype>Pixel</rasttype>
<rowcount Sync="TRUE">42801</rowcount>
<colcount Sync="TRUE">27259</colcount>
<rastxsz Sync="TRUE">1.000000</rastxsz>
<rastysz Sync="TRUE">1.000000</rastysz>
<rastbpp Sync="TRUE">8</rastbpp>
<vrtcount Sync="TRUE">1</vrtcount>
<rastorig Sync="TRUE">Upper Left</rastorig>
<rastcmap Sync="TRUE">FALSE</rastcmap>
<rastcomp Sync="TRUE">LZ77</rastcomp>
<rastband Sync="TRUE">3</rastband>
<rastdtyp Sync="TRUE">pixel codes</rastdtyp>
<rastifor Sync="TRUE">FGDBR</rastifor>
<rastplyr Sync="TRUE">TRUE</rastplyr>
</rastinfo>
</spdoinfo>
<spref>
<horizsys>
<planar>
<planci>
<plance>row and column</plance>
<coordrep>
<absres>1.0</absres>
<ordres>1.0</ordres>
</coordrep>
<plandu>meters</plandu>
</planci>
</planar>
<geodetic>
<horizdn>North American Datum of 1983</horizdn>
<ellips>Geodetic Reference System 80</ellips>
<semiaxis>6378137</semiaxis>
<denflat>298.257</denflat>
</geodetic>
</horizsys>
</spref>
<eainfo>
<overview>
<eaover>24-bit pixels, 3 band color(RGB) values 0 - 255</eaover>
<eadetcit>None</eadetcit>
</overview>
</eainfo>
<distinfo>
<distrib>
<cntinfo>
<cntperp>
<cntper>Supervisor Customer Services Section</cntper>
<cntorg>USDA-FSA Aerial Photography Field Office</cntorg>
</cntperp>
<cntaddr>
<addrtype>mailing and physical address</addrtype>
<address>2222 West 2300 South</address>
<city>Salt Lake City</city>
<state>Utah</state>
<postal>84119-2020</postal>
<country>USA</country>
</cntaddr>
<cntvoice>801-844-2922</cntvoice>
<cntfax>801-956-3653</cntfax>
<cntemail>apfo.sales@slc.usda.gov</cntemail>
</cntinfo>
</distrib>
<resdesc>None</resdesc>
<distliab>
In no event shall the creators, custodians, or distributors
of this information be liable for any damages arising out
of its use (or the inability to use it).
</distliab>
<stdorder>
<digform>
<digtinfo>
<formname>Compressed County Mosaic</formname>
<formcont>Natural Color</formcont>
</digtinfo>
<digtopt>
<onlinopt>
<computer>
<networka>
<networkr>withheld</networkr>
</networka>
</computer>
</onlinopt>
<offoptn>
<offmedia>DVD-R</offmedia>
<recfmt>ISO 9660</recfmt>
</offoptn>
<offoptn>
<offmedia>USB Hard Disk</offmedia>
<recfmt>NTFS</recfmt>
</offoptn>
<offoptn>
<offmedia>FireWire Hard Disk</offmedia>
<recfmt>NTFS</recfmt>
</offoptn>
<offoptn>
<offmedia>Flash drive</offmedia>
<recfmt>Fat32 or NTFS</recfmt>
</offoptn>
</digtopt>
</digform>
<fees>
Contact the Aerial Photography Field Office
for more information
</fees>
</stdorder>
</distinfo>
<metainfo>
<metd>20151016</metd>
<metc>
<cntinfo>
<cntorgp>
<cntorg>USDA-FSA Aerial Photography Field Office</cntorg>
</cntorgp>
<cntaddr>
<addrtype>mailing and physical address</addrtype>
<address>2222 West 2300 South</address>
<city>Salt Lake City</city>
<state>Utah</state>
<postal>84119-2020</postal>
<country>USA</country>
</cntaddr>
<cntvoice>801-844-2900</cntvoice>
</cntinfo>
</metc>
<metstdn>Content Standard for Digital Geospatial Metadata</metstdn>
<metstdv>FGDC-STD-001-1998</metstdv>
</metainfo>
<dataIdInfo>
<envirDesc Sync="FALSE">Esri ArcGIS 10.2.1.3497</envirDesc>
<dataLang>
<languageCode Sync="TRUE" value="eng">
</languageCode>
<countryCode Sync="TRUE" value="USA">
</countryCode>
</dataLang>
<idCitation>
<resTitle Sync="TRUE">Boone_2015</resTitle>
<presForm>
<PresFormCd Sync="TRUE" value="011">
</PresFormCd>
</presForm>
</idCitation>
<spatRpType>
<SpatRepTypCd Sync="TRUE" value="002">
</SpatRepTypCd>
</spatRpType>
<dataExt>
<geoEle>
<GeoBndBox esriExtentType="search">
<exTypeCode Sync="TRUE">1</exTypeCode>
<westBL Sync="TRUE">-89.015653</westBL>
<eastBL Sync="TRUE">-88.673800</eastBL>
<northBL Sync="TRUE">42.507789</northBL>
<southBL Sync="TRUE">42.117198</southBL>
</GeoBndBox>
</geoEle>
</dataExt>
<idAbs>This data set contains imagery from the National
Agriculture Imagery Program (NAIP). The NAIP
acquires digital ortho imagery during the
agricultural growing seasons in the continental U.S..
A primary goal of the NAIP program is to enable
availability of ortho imagery within one year of
acquisition. The NAIP provides two main products: 1
meter ground sample distance (GSD) ortho imagery
rectified to a horizontal accuracy within +/- 5 meters
of reference digital ortho quarter quads (DOQQ's) from
the National Digital Ortho Program (NDOP) or from the
National Agriculture Imagery Program (NAIP); 1 meter
or 1/2 meter GSD ortho imagery rectified within +/- 6
meters to true ground. The tiling format of NAIP imagery is
based on a 3.75' x 3.75' quarter quadrangle with a 300
pixel buffer on all four sides. The NAIP imagery is
formatted to the UTM coordinate system using the North
American Datum of 1983 (NAD83). The NAIP imagery may
contain as much as 10% cloud cover per tile. This file
was generated by compressing NAIP imagery that covers
the county extent. Two types of compression may be
used for NAIP imagery: MrSID and JPEG 2000. The target
value for the compression ratio is 15:1 for the 1 meter
imagery and 60:1 for the 1/2 meter imagery.</idAbs>
<searchKeys>
<keyword>Boone CO.</keyword>
<keyword>IL FSA</keyword>
<keyword>FIPS 17007</keyword>
<keyword>Boone</keyword>
<keyword>Illinois</keyword>
<keyword>farming</keyword>
<keyword>Digital Ortho Rectified Image</keyword>
<keyword>Mosaic</keyword>
<keyword>Quarter Quadrangle</keyword>
<keyword>Ortho Rectification</keyword>
<keyword>Compression</keyword>
<keyword>MrSID</keyword>
<keyword>JPEG 2000</keyword>
<keyword>NAIP</keyword>
<keyword>Compliance</keyword>
<keyword>Aerial Compliance</keyword>
</searchKeys>
<idPurp>The NAIP imagery is typically available for distribution
within 60 days of the end of a flying season and is intended
to provide current information of...</idPurp>
<idCredit/>
<resConst>
<Consts>
<useLimit/>
</Consts>
</resConst>
</dataIdInfo>
<mdLang>
<languageCode Sync="TRUE" value="eng">
</languageCode>
<countryCode Sync="TRUE" value="USA">
</countryCode>
</mdLang>
<mdChar>
<CharSetCd Sync="TRUE" value="004">
</CharSetCd>
</mdChar>
<Esri>
<DataProperties>
<itemProps>
<itemName Sync="TRUE">Boone_2015</itemName>
<imsContentType Sync="TRUE">002</imsContentType>
<nativeExtBox>
<westBL Sync="TRUE">334385.000000</westBL>
<eastBL Sync="TRUE">361644.000000</eastBL>
<southBL Sync="TRUE">4664731.000000</southBL>
<northBL Sync="TRUE">4707532.000000</northBL>
<exTypeCode Sync="TRUE">1</exTypeCode>
</nativeExtBox>
</itemProps>
<coordRef>
<type Sync="TRUE">Projected</type>
<geogcsn Sync="TRUE">GCS_North_American_1983</geogcsn>
<csUnits Sync="TRUE">Linear Unit: Meter (1.000000)</csUnits>
<projcsn Sync="TRUE">NAD_1983_UTM_Zone_16N</projcsn>
<peXml Sync="TRUE">&lt;ProjectedCoordinateSystem xsi:type='typens:ProjectedCoordinateSystem' xmlns:xsi='http://www.w3.org/2001/XMLSchema-instance' xmlns:xs='http://www.w3.org/2001/XMLSchema' xmlns:typens='http://www.esri.com/schemas/ArcGIS/10.1'&gt;&lt;WKT&gt;PROJCS[&amp;quot;NAD_1983_UTM_Zone_16N&amp;quot;,GEOGCS[&amp;quot;GCS_North_American_1983&amp;quot;,DATUM[&amp;quot;D_North_American_1983&amp;quot;,SPHEROID[&amp;quot;GRS_1980&amp;quot;,6378137.0,298.257222101]],PRIMEM[&amp;quot;Greenwich&amp;quot;,0.0],UNIT[&amp;quot;Degree&amp;quot;,0.0174532925199433]],PROJECTION[&amp;quot;Transverse_Mercator&amp;quot;],PARAMETER[&amp;quot;false_easting&amp;quot;,500000.0],PARAMETER[&amp;quot;false_northing&amp;quot;,0.0],PARAMETER[&amp;quot;central_meridian&amp;quot;,-87.0],PARAMETER[&amp;quot;scale_factor&amp;quot;,0.9996],PARAMETER[&amp;quot;latitude_of_origin&amp;quot;,0.0],UNIT[&amp;quot;Meter&amp;quot;,1.0],AUTHORITY[&amp;quot;EPSG&amp;quot;,26916]]&lt;/WKT&gt;&lt;XOrigin&gt;-5120900&lt;/XOrigin&gt;&lt;YOrigin&gt;-9998100&lt;/YOrigin&gt;&lt;XYScale&gt;450445547.3910538&lt;/XYScale&gt;&lt;ZOrigin&gt;-100000&lt;/ZOrigin&gt;&lt;ZScale&gt;10000&lt;/ZScale&gt;&lt;MOrigin&gt;-100000&lt;/MOrigin&gt;&lt;MScale&gt;10000&lt;/MScale&gt;&lt;XYTolerance&gt;0.001&lt;/XYTolerance&gt;&lt;ZTolerance&gt;0.001&lt;/ZTolerance&gt;&lt;MTolerance&gt;0.001&lt;/MTolerance&gt;&lt;HighPrecision&gt;true&lt;/HighPrecision&gt;&lt;WKID&gt;26916&lt;/WKID&gt;&lt;LatestWKID&gt;26916&lt;/LatestWKID&gt;&lt;/ProjectedCoordinateSystem&gt;</peXml>
</coordRef>
</DataProperties>
<SyncDate>20160218</SyncDate>
<SyncTime>15473100</SyncTime>
<ModDate>20160218</ModDate>
<ModTime>15473100</ModTime>
</Esri>
<distInfo>
<distFormat>
<formatName Sync="TRUE">File Geodatabase Raster Dataset</formatName>
</distFormat>
</distInfo>
<mdHrLv>
<ScopeCd Sync="TRUE" value="005">
</ScopeCd>
</mdHrLv>
<mdHrLvName Sync="TRUE">dataset</mdHrLvName>
<refSysInfo>
<RefSystem>
<refSysID>
<identCode Sync="TRUE" code="26916">
</identCode>
<idCodeSpace Sync="TRUE">EPSG</idCodeSpace>
<idVersion Sync="TRUE">8.2.6</idVersion>
</refSysID>
</RefSystem>
</refSysInfo>
<mdDateSt Sync="TRUE">20160218</mdDateSt>
</metadata>
