View In:
ArcGIS JavaScript
ArcGIS Online Map Viewer
ArcGIS Earth
ArcMap
View Footprint In:
ArcGIS Online Map Viewer
Service Description: 1941 Imagery
Name: 1941Belvidere
Description: 1941 Imagery
Single Fused Map Cache: false
Extent:
XMin: 828414.2960140596
YMin: 2025352.9543094083
XMax: 865771.1957468395
YMax: 2078752.740388744
Spatial Reference: 102671
(3435)
Initial Extent:
XMin: 828414.2960140596
YMin: 2025352.9543094083
XMax: 865771.1957468395
YMax: 2078752.740388744
Spatial Reference: 102671
(3435)
Full Extent:
XMin: 828414.2960140596
YMin: 2025352.9543094083
XMax: 865771.1957468395
YMax: 2078752.740388744
Spatial Reference: 102671
(3435)
Pixel Size X: 2.304274594916108
Pixel Size Y: 2.2727181681705706
Band Count: 1
Pixel Type: U8
RasterFunction Infos: {"rasterFunctionInfos": [{
"name": "None",
"description": "",
"help": ""
}]}
Mensuration Capabilities: Basic
Has Histograms: true
Has Colormap: false
Has Multi Dimensions : false
Rendering Rule:
Min Scale: 0
Max Scale: 0
Copyright Text: BooneGIS
Service Data Type: esriImageServiceDataTypeGeneric
Min Values: 0
Max Values: 255
Mean Values: 164.9793648760864
Standard Deviation Values: 48.49549493765405
Object ID Field:
Fields:
None
Default Mosaic Method: Center
Allowed Mosaic Methods:
SortField:
SortValue: null
Mosaic Operator: First
Default Compression Quality: 75
Default Resampling Method: Bilinear
Max Record Count: null
Max Image Height: 4100
Max Image Width: 15000
Max Download Image Count: null
Max Mosaic Image Count: null
Allow Raster Function: true
Allow Copy: null
Allow Analysis: null
Allow Compute TiePoints: false
Supports Statistics: false
Supports Advanced Queries: false
Use StandardizedQueries: true
Raster Type Infos:
Name: Raster Dataset
Description: Supports all ArcGIS Raster Datasets
Help:
Has Raster Attribute Table: false
Edit Fields Info: null
Ownership Based AccessControl For Rasters: null
Child Resources:
Info
Histograms
Key Properties
Legend
Raster Function Infos
Supported Operations:
Export Image
Identify
Measure
Compute Histograms
Compute Statistics Histograms
Get Samples
Compute Class Statistics
Query Boundary
Compute Pixel Location
Compute Angles
Validate
Project